BEGIN:VCALENDAR
VERSION:2.0
PRODID:-//juiceboxinteractive//NONSGML Events //EN
X-WR-CALNAME:Decatur Park District - Events
X-WR-CALDESC:Decatur Park District - Events
CALSCALE:GREGORIAN
TZID:America/Chicago
BEGIN:VEVENT
UID:event-1693@decatur-parks.org
DTSTART:20250809T000000Z
DTEND:20250809T030000Z
DTSTAMP:20250107T100437Z
SUMMARY:Steven Adler at the Devon
DESCRIPTION:<p>Steven Adler is one of the most recognizable figures in rock history.  As the founding drummer of Guns N&#8217; Roses, Adler has toured the world, sold tens of millions of records, and is a part of the Rock N&#8217; Roll Hall of Fame.  His influence on countless drummers is undeniable as is his unmistakable swing that provided the backdrop to some of hard rock&#8217;s most revered songs and arguably the most acclaimed album of a genre, &#8220;Appetite for Destruction.&#8221;</p>
<p>Adler, currently resides in Los Angeles, where he has become a best selling author, as well as the leader of rock bands Adler&#8217;s Appetite and Adler that continue to tour worldwide.</p>

LOCATION:
END:VEVENT
END:VCALENDAR