BEGIN:VCALENDAR
VERSION:2.0
PRODID:-//juiceboxinteractive//NONSGML Events //EN
X-WR-CALNAME:Decatur Park District - Events
X-WR-CALDESC:Decatur Park District - Events
CALSCALE:GREGORIAN
TZID:America/Chicago
BEGIN:VEVENT
UID:event-191@decatur-parks.org
DTSTART:20240419T170000Z
DTEND:20240419T220000Z
DTSTAMP:20240313T054925Z
SUMMARY:Valentines Senior Lunch
DESCRIPTION:
LOCATION:
END:VEVENT
END:VCALENDAR