BEGIN:VCALENDAR
VERSION:2.0
PRODID:-//juiceboxinteractive//NONSGML Events //EN
X-WR-CALNAME:Decatur Park District - Events
X-WR-CALDESC:Decatur Park District - Events
CALSCALE:GREGORIAN
TZID:America/Chicago
BEGIN:VEVENT
UID:event-2853@decatur-parks.org
DTSTART:20260502T220000Z
DTEND:20260503T000000Z
DTSTAMP:20260304T140643Z
SUMMARY:Dance Recital
DESCRIPTION:
LOCATION:
END:VEVENT
END:VCALENDAR